BEGIN:VCALENDAR
VERSION:2.0
PRODID:-//Fort McMurray 468 First Nation - ECPv6.15.20//NONSGML v1.0//EN
CALSCALE:GREGORIAN
METHOD:PUBLISH
X-WR-CALNAME:Fort McMurray 468 First Nation
X-ORIGINAL-URL:https://fmfn468.com
X-WR-CALDESC:Events for Fort McMurray 468 First Nation
REFRESH-INTERVAL;VALUE=DURATION:PT1H
X-Robots-Tag:noindex
X-PUBLISHED-TTL:PT1H
BEGIN:VTIMEZONE
TZID:America/Edmonton
BEGIN:DAYLIGHT
TZOFFSETFROM:-0700
TZOFFSETTO:-0600
TZNAME:MDT
DTSTART:20230312T090000
END:DAYLIGHT
BEGIN:STANDARD
TZOFFSETFROM:-0600
TZOFFSETTO:-0700
TZNAME:MST
DTSTART:20231105T080000
END:STANDARD
BEGIN:DAYLIGHT
TZOFFSETFROM:-0700
TZOFFSETTO:-0600
TZNAME:MDT
DTSTART:20240310T090000
END:DAYLIGHT
BEGIN:STANDARD
TZOFFSETFROM:-0600
TZOFFSETTO:-0700
TZNAME:MST
DTSTART:20241103T080000
END:STANDARD
BEGIN:DAYLIGHT
TZOFFSETFROM:-0700
TZOFFSETTO:-0600
TZNAME:MDT
DTSTART:20250309T090000
END:DAYLIGHT
BEGIN:STANDARD
TZOFFSETFROM:-0600
TZOFFSETTO:-0700
TZNAME:MST
DTSTART:20251102T080000
END:STANDARD
END:VTIMEZONE
BEGIN:VTIMEZONE
TZID:UTC
BEGIN:STANDARD
TZOFFSETFROM:+0000
TZOFFSETTO:+0000
TZNAME:UTC
DTSTART:20230101T000000
END:STANDARD
END:VTIMEZONE
BEGIN:VEVENT
DTSTART;TZID=America/Edmonton:20241210T170000
DTEND;TZID=America/Edmonton:20241210T200000
DTSTAMP:20260419T090524
CREATED:20241120T191222Z
LAST-MODIFIED:20241209T204051Z
UID:2323-1733850000-1733860800@fmfn468.com
SUMMARY:Building the Future: The CFS Law Project
DESCRIPTION:Join Us for an Evening of Insight and Discussion – Building the Future: The CFS Law Project \nIn this next phase\, we’ll build directly on the discussions from our previous meetings. Together\, we’ll map out the key questions raised and explore how they will shape the drafting of our new law. Join us for dinner and valuable insights from our legal team! \nDecember 10th – FM468FN Urban Office. 5-8 PM \nYou’re invited to a dinner and discussion on the progress of the CFS Law Project. \nFacilitators: Fogler\, Rubinoff Law will be joining us to share insights and guide us through the next steps of the project. \nFor more information or to RSVP\, please contact Megan at cfsprojectmanager@FMFN468.com or the Urban office at urbancoordinator@fmfn468.com
URL:https://fmfn468.com/calendar/building-the-future-the-cfs-law-project-2/
CATEGORIES:Child Family Services
ATTACH;FMTTYPE=image/png:https://fmfn468.com/wp-content/uploads/2024/11/New-Time.Law-Sessions_Dec2024.png
END:VEVENT
BEGIN:VEVENT
DTSTART;TZID=America/Edmonton:20241209T170000
DTEND;TZID=America/Edmonton:20241209T200000
DTSTAMP:20260419T090524
CREATED:20241120T190821Z
LAST-MODIFIED:20241209T204202Z
UID:2320-1733763600-1733774400@fmfn468.com
SUMMARY:Building the Future: The CFS Law Project
DESCRIPTION:Join Us for an Evening of Insight and Discussion – Building the Future: The CFS Law Project \nIn this next phase\, we’ll build directly on the discussions from our previous meetings. Together\, we’ll map out the key questions raised and explore how they will shape the drafting of our new law. Join us for dinner and valuable insights from our legal team! \nDecember 9th – Anzac Recreation Center. 5-8 PM. NEW START TIME \nYou’re invited to a dinner and discussion on the progress of the CFS Law Project. \nFacilitators: Fogler\, Rubinoff Law will be joining us to share insights and guide us through the next steps of the project. \nFor more information or to RSVP\, please contact Megan at cfsprojectmanager@FMFN468.com
URL:https://fmfn468.com/calendar/building-the-future-the-cfs-law-project/
LOCATION:Anzac Recreation Centre\, 237 Stony Mountain Road\, Anzac\, Alberta\, T0P 1J0\, Canada
CATEGORIES:Child Family Services
ATTACH;FMTTYPE=image/png:https://fmfn468.com/wp-content/uploads/2024/11/New-Time.Law-Sessions_Dec2024.png
END:VEVENT
BEGIN:VEVENT
DTSTART;TZID=America/Edmonton:20241107T170000
DTEND;TZID=America/Edmonton:20241107T200000
DTSTAMP:20260419T090524
CREATED:20241016T183022Z
LAST-MODIFIED:20241017T172745Z
UID:2291-1730998800-1731009600@fmfn468.com
SUMMARY:Join Us for an Evening of Insight and Discussion Building the Future: The CFS Law Project
DESCRIPTION:Times: 5-8 PM \nOff-reserve – November 6th\, FM468FN Urban Office \n On-reserve – November 7th\, Anzac Recreation Center \nDinner and door prizes! \nSpecial Guests & Facilitators:\nFogler\, Rubinoff Law will be joining us to share insights and guide us through the next steps of the project. \n For more information or to RSVP\, please contact Megan at cfsprojectmanager@FMFN468.comCFS Engagement_Law Sessions
URL:https://fmfn468.com/calendar/join-us-for-an-evening-of-insight-and-discussion-building-the-future-the-cfs-law-project/
CATEGORIES:Child Family Services
END:VEVENT
BEGIN:VEVENT
DTSTART;TZID=America/Edmonton:20241106T170000
DTEND;TZID=America/Edmonton:20241106T200000
DTSTAMP:20260419T090524
CREATED:20241016T183135Z
LAST-MODIFIED:20241017T173730Z
UID:2293-1730912400-1730923200@fmfn468.com
SUMMARY:Join Us for an Evening of Insight and Discussion Building the Future: The CFS Law Project
DESCRIPTION:Times: 5-8 PM \nOff-reserve – November 6th\, FM468FN Urban Office \nOn-reserve – November 7th\, Anzac Recreation Center \nDinner and door prizes! \nSpecial Guests & Facilitators:\nFogler\, Rubinoff Law will be joining us to share insights and guide us through the next steps of the project. \n For more information or to RSVP\, please contact Megan at cfsprojectmanager@FMFN468.com
URL:https://fmfn468.com/calendar/join-us-for-an-evening-of-insight-and-discussion-building-the-future-the-cfs-law-project-2/
LOCATION:Urban Office\, Fort McMurray #468 First Nation 15107-123 Ave NW\, Building 6\, Edmonton\, Alberta\, T5V 1J7\, Canada
CATEGORIES:Child Family Services
ATTACH;FMTTYPE=application/pdf:https://fmfn468.com/wp-content/uploads/2024/10/CFS-Engagement_Law-Sessions-2.pdf
END:VEVENT
BEGIN:VEVENT
DTSTART;VALUE=DATE:20240328
DTEND;VALUE=DATE:20240329
DTSTAMP:20260419T090524
CREATED:20240313T050555Z
LAST-MODIFIED:20240313T051756Z
UID:2178-1711584000-1711670399@fmfn468.com
SUMMARY:Youth Contest – Creative Submissions
DESCRIPTION:We are Seeking Youth Voices!  \nWe want to hear from our youth on how you define a safe home. Be as creative as possible! Send along a quick blurb or video that explains what you’ve created. \nDetails:  \n\nOn and Off reserve youth Members under 18 years old welcome to submit \nCreative submissions (poster\, video\, paintings\, song\, poem\, etc) on what a safe home means to you?\nPrizes: IPAD with pen and keyboard\, 2 gift cards ($250)\nSubmit by March 28\, 2024\n\nSubmissions can be sent to cfsprojectmanager@fmfn468.com. Please call or text Megan Plews @ 780-531-5957 with further questions.  \n  \nYouth Submission
URL:https://fmfn468.com/calendar/youth-contest-creative-submissions/
CATEGORIES:Child Family Services
END:VEVENT
BEGIN:VEVENT
DTSTART;TZID=UTC:20240326T170000
DTEND;TZID=UTC:20240326T200000
DTSTAMP:20260419T090524
CREATED:20240320T010004Z
LAST-MODIFIED:20240320T010848Z
UID:2198-1711472400-1711483200@fmfn468.com
SUMMARY:ANZAC- KINSHIP SESSION
DESCRIPTION:We invite our kinship care providers to share their voices and expertise! We invite Fort McMurray 468 First Nation Members who are\, or have been\, a kinship care provider and would like to share their experiences to help our Nation create solutions for our CFS law.  \n\n\n\nDate: March 26\, 2024\nTime: 5pm – 8pm\nLocation: Anzac Recreation Centre\nMember kinship care providers are invited to attend the session.\n\n\n\nJoin us now to make a difference! Your support and voices are crucial in shaping a new child family service law\, ensuring a brighter future for our children and families. Together\, let’s heal and build a better tomorrow. Your attendance will automatically enter you into our draw for one of ten $100 gift card giveaways!
URL:https://fmfn468.com/calendar/urban-office-kinship-session-2/
LOCATION:Anzac Recreation Centre\, 237 Stony Mountain Road\, Anzac\, Alberta\, T0P 1J0\, Canada
CATEGORIES:Child Family Services
END:VEVENT
BEGIN:VEVENT
DTSTART;TZID=UTC:20240325T170000
DTEND;TZID=UTC:20240325T200000
DTSTAMP:20260419T090524
CREATED:20240320T010225Z
LAST-MODIFIED:20240320T011552Z
UID:2201-1711386000-1711396800@fmfn468.com
SUMMARY:ANZAC - YOUTH SESSION
DESCRIPTION:We want to hear from our youth Members for our Child Family Services Law project. Join us for an informative session about our project\, how you can get involved\, and have your voice heard. Those in attendance will be entered into a draw to win a prize! Prizes include a PS2 and gift cards! Dinner included. \n\n\n\nDate: March 25\, 2024\nTime: 5 pm – 8 pm\nLocation: Anzac Recreation Centre\nMembers under 18 years old are invited to attend the youth sessions. 
URL:https://fmfn468.com/calendar/urban-office-youth-session/
LOCATION:Anzac Recreation Centre\, 237 Stony Mountain Road\, Anzac\, Alberta\, T0P 1J0\, Canada
CATEGORIES:Child Family Services
END:VEVENT
BEGIN:VEVENT
DTSTART;TZID=UTC:20240323T130000
DTEND;TZID=UTC:20240323T160000
DTSTAMP:20260419T090524
CREATED:20240313T222016Z
LAST-MODIFIED:20240313T225053Z
UID:2188-1711198800-1711209600@fmfn468.com
SUMMARY:Urban Office - Youth Information Session
DESCRIPTION:We want to hear from our youth Members for our Child Family Services Law project. Join us for an informative session about our project\, how you can get involved\, and have your voice heard. Those in attendance will be entered into a draw to win a prize! Prizes include Nintendo Switch and gift cards ($250)! Pizza dinner provided.  \n\n\n\nDate: March 23\, 2024\nTime: 1pm – 4pm\nLocation: FM468FN Urban Office\nMembers under 18 years old are invited to attend the youth sessions. \n\n\n\nYouth Information Session
URL:https://fmfn468.com/calendar/urban-office-youth-information-session/
LOCATION:Urban Office\, Fort McMurray #468 First Nation 15107-123 Ave NW\, Building 6\, Edmonton\, Alberta\, T5V 1J7\, Canada
CATEGORIES:Child Family Services
END:VEVENT
BEGIN:VEVENT
DTSTART;TZID=UTC:20240323T090000
DTEND;TZID=UTC:20240323T120000
DTSTAMP:20260419T090524
CREATED:20240313T222415Z
LAST-MODIFIED:20240313T222652Z
UID:2190-1711184400-1711195200@fmfn468.com
SUMMARY:Urban Office - Kinship Session
DESCRIPTION:We want to hear from our kinship care providers. Join us for an informative session about our project\, how you can get involved\, and have your voice heard. Those in attendance will be entered into a draw to win a prize! \n\n\n\nDate: March 23\, 2024\nTime: 9am – 12pm\nLocation: FM468FN Urban Office\nMember kinship care providers are invited to attend the session\n\n\n\nJoin us now to make a difference! Your support and voices are crucial in shaping a new child family service law\, ensuring a brighter future for our children and families. Together\, let’s heal and build a better tomorrow. \nKinship Session
URL:https://fmfn468.com/calendar/urban-office-kinship-session/
LOCATION:Urban Office\, Fort McMurray #468 First Nation 15107-123 Ave NW\, Building 6\, Edmonton\, Alberta\, T5V 1J7\, Canada
CATEGORIES:Child Family Services
END:VEVENT
BEGIN:VEVENT
DTSTART;TZID=UTC:20240319T090000
DTEND;TZID=UTC:20240322T160000
DTSTAMP:20260419T090524
CREATED:20231205T224214Z
LAST-MODIFIED:20240309T051105Z
UID:2133-1710838800-1711123200@fmfn468.com
SUMMARY:CFS Urban Office Summit
DESCRIPTION:Dates: March 19-22\, 2024 \nLocation: Off-reserve – Urban Office \nTime: 9AM – 4PM \nFor the first time in history\, we as a Nation have the opportunity to create our own Child Family Services Law. Bill C-92: An Act respecting First Nations\, Inuit and Métis children\, youth\, and families\, affirms and recognizes our right to determine how to provide Child and Family Services in our community and keep our children safe and connected to their families\, culture\, and community. \nTogether\, we are exploring what service delivery looks like today and into the future for our Nation\, as well as seeking to understand the transformation needed to address the over-representation of Indigenous children and youth in care in Canada. \nFMFN468 Members – please join us March 19-22\, 2024\, to have your voice heard. Each day will be filled with inspiring conversations\, activities\, sharing circles\, and the opportunity for us to come together as a community. Lunch with be provided and honorariums will be given to Elder’s in attendance. \nWe look forward to having you join us! \nContact FMFN468 CFS Project Manager\, Megan Plews with any questions – cfsprojectmanager@fmfn468.com
URL:https://fmfn468.com/calendar/cfs-4-day-summit/
LOCATION:Urban Office\, Fort McMurray #468 First Nation 15107-123 Ave NW\, Building 6\, Edmonton\, Alberta\, T5V 1J7\, Canada
CATEGORIES:Child Family Services
END:VEVENT
BEGIN:VEVENT
DTSTART;TZID=UTC:20240124T100000
DTEND;TZID=UTC:20240127T160000
DTSTAMP:20260419T090524
CREATED:20231205T224410Z
LAST-MODIFIED:20240125T014628Z
UID:2136-1706090400-1706371200@fmfn468.com
SUMMARY:CFS 4-Day Summit
DESCRIPTION:Location: On-reserve – Camp Yogi \nTime: 10AM – 4PM \nWe welcome those in the Fort McMurray 468 First Nation to join us for 4 days of engaging sessions – featuring traditional governance teachings with Elder Genoway\, a captivating walk-through history with Laura Weibel\, community engagement sessions led by CMR Consulting\, and a Sweat. Your participation will contribute to understanding our Nation’s readiness to create our own CFS Law and make lasting change for our children and families. \nLunch with be provided and honorariums will be given to Elder’s in attendance. \nContact CFS Project Manager\, Megan Plews with any questions – cfsprojectmanager@fmfn468.com
URL:https://fmfn468.com/calendar/cfs-4-day-summit-2/
CATEGORIES:Child Family Services
END:VEVENT
END:VCALENDAR